BEGIN:VCALENDAR
VERSION:2.0
PRODID:-//Walk The Narrow Road - ECPv6.15.20//NONSGML v1.0//EN
CALSCALE:GREGORIAN
METHOD:PUBLISH
X-WR-CALNAME:Walk The Narrow Road
X-ORIGINAL-URL:https://wtnr.org
X-WR-CALDESC:Events for Walk The Narrow Road
REFRESH-INTERVAL;VALUE=DURATION:PT1H
X-Robots-Tag:noindex
X-PUBLISHED-TTL:PT1H
BEGIN:VTIMEZONE
TZID:America/Denver
BEGIN:DAYLIGHT
TZOFFSETFROM:-0700
TZOFFSETTO:-0600
TZNAME:MDT
DTSTART:20250309T090000
END:DAYLIGHT
BEGIN:STANDARD
TZOFFSETFROM:-0600
TZOFFSETTO:-0700
TZNAME:MST
DTSTART:20251102T080000
END:STANDARD
BEGIN:DAYLIGHT
TZOFFSETFROM:-0700
TZOFFSETTO:-0600
TZNAME:MDT
DTSTART:20260308T090000
END:DAYLIGHT
BEGIN:STANDARD
TZOFFSETFROM:-0600
TZOFFSETTO:-0700
TZNAME:MST
DTSTART:20261101T080000
END:STANDARD
BEGIN:DAYLIGHT
TZOFFSETFROM:-0700
TZOFFSETTO:-0600
TZNAME:MDT
DTSTART:20270314T090000
END:DAYLIGHT
BEGIN:STANDARD
TZOFFSETFROM:-0600
TZOFFSETTO:-0700
TZNAME:MST
DTSTART:20271107T080000
END:STANDARD
END:VTIMEZONE
BEGIN:VEVENT
DTSTART;VALUE=DATE:20260306
DTEND;VALUE=DATE:20260309
DTSTAMP:20260423T090632
CREATED:20260209T223153Z
LAST-MODIFIED:20260209T223347Z
UID:7456-1772755200-1773014399@wtnr.org
SUMMARY:visit weekend
DESCRIPTION:
URL:https://wtnr.org/event/work-weekend-23/
CATEGORIES:Planning weekend
END:VEVENT
BEGIN:VEVENT
DTSTART;VALUE=DATE:20260312
DTEND;VALUE=DATE:20260320
DTSTAMP:20260423T090632
CREATED:20260209T224628Z
LAST-MODIFIED:20260209T224628Z
UID:7473-1773273600-1773964799@wtnr.org
SUMMARY:visit week
DESCRIPTION:
URL:https://wtnr.org/event/visit-week/
CATEGORIES:Church Group
END:VEVENT
BEGIN:VEVENT
DTSTART;VALUE=DATE:20260313
DTEND;VALUE=DATE:20260316
DTSTAMP:20260423T090632
CREATED:20260209T224054Z
LAST-MODIFIED:20260209T224054Z
UID:7465-1773360000-1773619199@wtnr.org
SUMMARY:work/community weekend
DESCRIPTION:
URL:https://wtnr.org/event/work-community-weekend/
CATEGORIES:Work Weekend
END:VEVENT
END:VCALENDAR