BEGIN:VCALENDAR
VERSION:2.0
PRODID:-//Walk The Narrow Road - ECPv6.15.20//NONSGML v1.0//EN
CALSCALE:GREGORIAN
METHOD:PUBLISH
X-WR-CALNAME:Walk The Narrow Road
X-ORIGINAL-URL:https://wtnr.org
X-WR-CALDESC:Events for Walk The Narrow Road
REFRESH-INTERVAL;VALUE=DURATION:PT1H
X-Robots-Tag:noindex
X-PUBLISHED-TTL:PT1H
BEGIN:VTIMEZONE
TZID:UTC
BEGIN:STANDARD
TZOFFSETFROM:+0000
TZOFFSETTO:+0000
TZNAME:UTC
DTSTART:20190101T000000
END:STANDARD
END:VTIMEZONE
BEGIN:VEVENT
DTSTART;TZID=UTC:20200403T130000
DTEND;TZID=UTC:20200405T170000
DTSTAMP:20260424T051517
CREATED:20200317T214726Z
LAST-MODIFIED:20200317T222844Z
UID:5322-1585918800-1586106000@wtnr.org
SUMMARY:Work Weekend
DESCRIPTION:
URL:https://wtnr.org/event/work-weekend/
LOCATION:Work Weekend\, QGW3+8V\, Ensenada\, Mexico
CATEGORIES:Work Weekend
END:VEVENT
END:VCALENDAR