BEGIN:VCALENDAR
VERSION:2.0
PRODID:-//Walk The Narrow Road - ECPv6.15.20//NONSGML v1.0//EN
CALSCALE:GREGORIAN
METHOD:PUBLISH
X-WR-CALNAME:Walk The Narrow Road
X-ORIGINAL-URL:https://wtnr.org
X-WR-CALDESC:Events for Walk The Narrow Road
REFRESH-INTERVAL;VALUE=DURATION:PT1H
X-Robots-Tag:noindex
X-PUBLISHED-TTL:PT1H
BEGIN:VTIMEZONE
TZID:UTC
BEGIN:STANDARD
TZOFFSETFROM:+0000
TZOFFSETTO:+0000
TZNAME:UTC
DTSTART:20190101T000000
END:STANDARD
END:VTIMEZONE
BEGIN:VEVENT
DTSTART;VALUE=DATE:20221125
DTEND;VALUE=DATE:20221128
DTSTAMP:20260423T153538
CREATED:20220907T040923Z
LAST-MODIFIED:20220907T040923Z
UID:6314-1669334400-1669593599@wtnr.org
SUMMARY:Work Weekend Nov. 25-27
DESCRIPTION:
URL:https://wtnr.org/event/work-weekend-nov-25-27/
CATEGORIES:Work Weekend
END:VEVENT
BEGIN:VEVENT
DTSTART;VALUE=DATE:20221124
DTEND;VALUE=DATE:20221125
DTSTAMP:20260423T153538
CREATED:20220907T041940Z
LAST-MODIFIED:20220907T041940Z
UID:6321-1669248000-1669334399@wtnr.org
SUMMARY:Neighborhood Thanksgiving Meal
DESCRIPTION:
URL:https://wtnr.org/event/neighborhood-thanksgiving-meal/
CATEGORIES:Neighbor Day
END:VEVENT
BEGIN:VEVENT
DTSTART;VALUE=DATE:20221021
DTEND;VALUE=DATE:20221024
DTSTAMP:20260423T153538
CREATED:20220907T040730Z
LAST-MODIFIED:20220907T040730Z
UID:6312-1666310400-1666569599@wtnr.org
SUMMARY:Work Weekend Oct. 21-23
DESCRIPTION:
URL:https://wtnr.org/event/work-weekend-oct-21-23/
CATEGORIES:Work Weekend
END:VEVENT
BEGIN:VEVENT
DTSTART;VALUE=DATE:20220930
DTEND;VALUE=DATE:20221003
DTSTAMP:20260423T153538
CREATED:20220907T040343Z
LAST-MODIFIED:20220907T040343Z
UID:6308-1664496000-1664755199@wtnr.org
SUMMARY:Work Weekend Sept. 30 - Oct. 2
DESCRIPTION:
URL:https://wtnr.org/event/work-weekend-sept-30-oct-2-3/
CATEGORIES:Work Weekend
END:VEVENT
BEGIN:VEVENT
DTSTART;VALUE=DATE:20220916
DTEND;VALUE=DATE:20220919
DTSTAMP:20260423T153538
CREATED:20220412T043712Z
LAST-MODIFIED:20220412T043712Z
UID:6133-1663286400-1663545599@wtnr.org
SUMMARY:Planning Weekend September 16 - 18
DESCRIPTION:
URL:https://wtnr.org/event/planning-weekend-september-16-18/
CATEGORIES:Planning weekend
END:VEVENT
BEGIN:VEVENT
DTSTART;TZID=UTC:20220905T080000
DTEND;TZID=UTC:20220905T170000
DTSTAMP:20260423T153538
CREATED:20220906T022649Z
LAST-MODIFIED:20220906T022649Z
UID:6285-1662364800-1662397200@wtnr.org
SUMMARY:Work Weekend Sept. 30 - Oct. 2
DESCRIPTION:
URL:https://wtnr.org/event/work-weekend-sept-30-oct-2/
CATEGORIES:Work Weekend
END:VEVENT
BEGIN:VEVENT
DTSTART;VALUE=DATE:20220819
DTEND;VALUE=DATE:20220822
DTSTAMP:20260423T153538
CREATED:20220412T042410Z
LAST-MODIFIED:20220412T042410Z
UID:6125-1660867200-1661126399@wtnr.org
SUMMARY:Work Weekend August 19 - 21
DESCRIPTION:
URL:https://wtnr.org/event/work-weekend-august-19-21/
CATEGORIES:Work Weekend
END:VEVENT
BEGIN:VEVENT
DTSTART;VALUE=DATE:20220722
DTEND;VALUE=DATE:20220725
DTSTAMP:20260423T153538
CREATED:20220412T042257Z
LAST-MODIFIED:20220412T042257Z
UID:6123-1658448000-1658707199@wtnr.org
SUMMARY:Work Weekend July 22 -24
DESCRIPTION:
URL:https://wtnr.org/event/work-weekend-july-22-24/
CATEGORIES:Work Weekend
END:VEVENT
BEGIN:VEVENT
DTSTART;VALUE=DATE:20220624
DTEND;VALUE=DATE:20220627
DTSTAMP:20260423T153538
CREATED:20220412T042052Z
LAST-MODIFIED:20220412T042052Z
UID:6121-1656028800-1656287999@wtnr.org
SUMMARY:Work Weekend June 24 -26
DESCRIPTION:
URL:https://wtnr.org/event/work-weekend-june-24-26/
CATEGORIES:Work Weekend
END:VEVENT
BEGIN:VEVENT
DTSTART;VALUE=DATE:20220610
DTEND;VALUE=DATE:20220613
DTSTAMP:20260423T153538
CREATED:20220412T043150Z
LAST-MODIFIED:20220412T043150Z
UID:6131-1654819200-1655078399@wtnr.org
SUMMARY:Planning Weekend June 10 -12
DESCRIPTION:
URL:https://wtnr.org/event/planning-weekend-june-10-12/
CATEGORIES:Planning weekend
END:VEVENT
BEGIN:VEVENT
DTSTART;VALUE=DATE:20220527
DTEND;VALUE=DATE:20220530
DTSTAMP:20260423T153538
CREATED:20220412T041949Z
LAST-MODIFIED:20220412T043910Z
UID:6119-1653609600-1653868799@wtnr.org
SUMMARY:Community Work Weekend May 27-29 (full - call if interested)
DESCRIPTION:
URL:https://wtnr.org/event/community-work-weekend-may-27-29-full-call-if-interested/
CATEGORIES:Work Weekend
END:VEVENT
BEGIN:VEVENT
DTSTART;VALUE=DATE:20220520
DTEND;VALUE=DATE:20220523
DTSTAMP:20260423T153538
CREATED:20220412T041545Z
LAST-MODIFIED:20220412T041545Z
UID:6117-1653004800-1653263999@wtnr.org
SUMMARY:Work Weekend May 20 - 22
DESCRIPTION:
URL:https://wtnr.org/event/work-weekend-may-20-22/
CATEGORIES:Work Weekend
END:VEVENT
BEGIN:VEVENT
DTSTART;VALUE=DATE:20220422
DTEND;VALUE=DATE:20220425
DTSTAMP:20260423T153538
CREATED:20220412T041322Z
LAST-MODIFIED:20220412T043809Z
UID:6115-1650585600-1650844799@wtnr.org
SUMMARY:Work Weekend April 22 - 24
DESCRIPTION:
URL:https://wtnr.org/event/work-weekend-april-22-24/
CATEGORIES:Work Weekend
END:VEVENT
BEGIN:VEVENT
DTSTART;VALUE=DATE:20220401
DTEND;VALUE=DATE:20220404
DTSTAMP:20260423T153538
CREATED:20220412T042745Z
LAST-MODIFIED:20220412T042745Z
UID:6129-1648771200-1649030399@wtnr.org
SUMMARY:Planning Weekend April 1 - 3
DESCRIPTION:
URL:https://wtnr.org/event/planning-weekend-april-1-3/
CATEGORIES:Planning weekend
END:VEVENT
BEGIN:VEVENT
DTSTART;VALUE=DATE:20220318
DTEND;VALUE=DATE:20220321
DTSTAMP:20260423T153538
CREATED:20220412T040632Z
LAST-MODIFIED:20220412T040858Z
UID:6112-1647561600-1647820799@wtnr.org
SUMMARY:Work Weekend March 18-20
DESCRIPTION:
URL:https://wtnr.org/event/work-weekend-march-18-20/
CATEGORIES:Work Weekend
END:VEVENT
BEGIN:VEVENT
DTSTART;VALUE=DATE:20211210
DTEND;VALUE=DATE:20211213
DTSTAMP:20260423T153538
CREATED:20210814T021313Z
LAST-MODIFIED:20210814T023050Z
UID:6109-1639094400-1639353599@wtnr.org
SUMMARY:Work Weekend
DESCRIPTION:
URL:https://wtnr.org/event/work-weekend-14/
CATEGORIES:Work Weekend
END:VEVENT
BEGIN:VEVENT
DTSTART;VALUE=DATE:20211112
DTEND;VALUE=DATE:20211115
DTSTAMP:20260423T153538
CREATED:20210814T020758Z
LAST-MODIFIED:20210814T022951Z
UID:6107-1636675200-1636934399@wtnr.org
SUMMARY:Work Weekend
DESCRIPTION:
URL:https://wtnr.org/event/work-weekend-12/
CATEGORIES:Work Weekend
END:VEVENT
BEGIN:VEVENT
DTSTART;TZID=UTC:20211022T110000
DTEND;TZID=UTC:20211024T100000
DTSTAMP:20260423T153538
CREATED:20210529T015659Z
LAST-MODIFIED:20210529T015659Z
UID:6063-1634900400-1635069600@wtnr.org
SUMMARY:Work Weekend
DESCRIPTION:
URL:https://wtnr.org/event/work-weekend-13/
CATEGORIES:Work Weekend
END:VEVENT
BEGIN:VEVENT
DTSTART;TZID=UTC:20210820T110000
DTEND;TZID=UTC:20210822T110000
DTSTAMP:20260423T153538
CREATED:20210529T014749Z
LAST-MODIFIED:20210529T015500Z
UID:6057-1629457200-1629630000@wtnr.org
SUMMARY:Work Weekend
DESCRIPTION:
URL:https://wtnr.org/event/ranch-work-weekend-3/
CATEGORIES:Work Weekend
END:VEVENT
BEGIN:VEVENT
DTSTART;TZID=UTC:20210716T110000
DTEND;TZID=UTC:20210718T100000
DTSTAMP:20260423T153538
CREATED:20210125T132627Z
LAST-MODIFIED:20210125T132627Z
UID:5744-1626433200-1626602400@wtnr.org
SUMMARY:Work Weekend
DESCRIPTION:
URL:https://wtnr.org/event/work-weekend-11/
CATEGORIES:Work Weekend
END:VEVENT
BEGIN:VEVENT
DTSTART;TZID=UTC:20210618T110000
DTEND;TZID=UTC:20210620T100000
DTSTAMP:20260423T153538
CREATED:20210125T132517Z
LAST-MODIFIED:20210125T132517Z
UID:5742-1624014000-1624183200@wtnr.org
SUMMARY:Work Weekend
DESCRIPTION:
URL:https://wtnr.org/event/work-weekend-10/
CATEGORIES:Work Weekend
END:VEVENT
BEGIN:VEVENT
DTSTART;TZID=UTC:20210521T110000
DTEND;TZID=UTC:20210523T110000
DTSTAMP:20260423T153538
CREATED:20210125T132345Z
LAST-MODIFIED:20210125T132345Z
UID:5740-1621594800-1621767600@wtnr.org
SUMMARY:Work Weekend
DESCRIPTION:
URL:https://wtnr.org/event/work-weekend-9/
CATEGORIES:Work Weekend
END:VEVENT
BEGIN:VEVENT
DTSTART;TZID=UTC:20210423T110000
DTEND;TZID=UTC:20210425T100000
DTSTAMP:20260423T153538
CREATED:20210125T132227Z
LAST-MODIFIED:20210125T132227Z
UID:5738-1619175600-1619344800@wtnr.org
SUMMARY:Work Weekend
DESCRIPTION:
URL:https://wtnr.org/event/work-weekend-8/
CATEGORIES:Work Weekend
END:VEVENT
BEGIN:VEVENT
DTSTART;TZID=UTC:20210319T110000
DTEND;TZID=UTC:20210321T100000
DTSTAMP:20260423T153538
CREATED:20210125T132012Z
LAST-MODIFIED:20210125T132012Z
UID:5736-1616151600-1616320800@wtnr.org
SUMMARY:Work Weekend
DESCRIPTION:
URL:https://wtnr.org/event/work-weekend-7/
CATEGORIES:Work Weekend
END:VEVENT
BEGIN:VEVENT
DTSTART;VALUE=DATE:20201211
DTEND;VALUE=DATE:20201214
DTSTAMP:20260423T153538
CREATED:20200914T234222Z
LAST-MODIFIED:20200914T234725Z
UID:5668-1607644800-1607903999@wtnr.org
SUMMARY:Community/Ranch Work Weekend
DESCRIPTION:
URL:https://wtnr.org/event/community-work-weekend/
CATEGORIES:Work Weekend
END:VEVENT
BEGIN:VEVENT
DTSTART;VALUE=DATE:20201113
DTEND;VALUE=DATE:20201116
DTSTAMP:20260423T153538
CREATED:20200914T235102Z
LAST-MODIFIED:20200914T235102Z
UID:5675-1605225600-1605484799@wtnr.org
SUMMARY:Ranch Work Weekend
DESCRIPTION:
URL:https://wtnr.org/event/ranch-work-weekend-2/
CATEGORIES:Work Weekend
END:VEVENT
BEGIN:VEVENT
DTSTART;VALUE=DATE:20201009
DTEND;VALUE=DATE:20201012
DTSTAMP:20260423T153538
CREATED:20200914T234936Z
LAST-MODIFIED:20200914T235218Z
UID:5673-1602201600-1602460799@wtnr.org
SUMMARY:Community Work Weekend
DESCRIPTION:
URL:https://wtnr.org/event/ranch-work-weekend/
CATEGORIES:Work Weekend
END:VEVENT
BEGIN:VEVENT
DTSTART;TZID=UTC:20200821T080000
DTEND;TZID=UTC:20200823T170000
DTSTAMP:20260423T153538
CREATED:20200317T224048Z
LAST-MODIFIED:20200317T224048Z
UID:5342-1597996800-1598202000@wtnr.org
SUMMARY:Work Weekend
DESCRIPTION:
URL:https://wtnr.org/event/work-weekend-6/
CATEGORIES:Work Weekend
END:VEVENT
BEGIN:VEVENT
DTSTART;TZID=UTC:20200815T080000
DTEND;TZID=UTC:20200816T170000
DTSTAMP:20260423T153538
CREATED:20200317T224440Z
LAST-MODIFIED:20200317T230421Z
UID:5350-1597478400-1597597200@wtnr.org
SUMMARY:Planning Weekend
DESCRIPTION:
URL:https://wtnr.org/event/planning-weekend-4/
CATEGORIES:Planning weekend
END:VEVENT
BEGIN:VEVENT
DTSTART;TZID=UTC:20200724T080000
DTEND;TZID=UTC:20200726T170000
DTSTAMP:20260423T153538
CREATED:20200317T224006Z
LAST-MODIFIED:20200317T224006Z
UID:5339-1595577600-1595782800@wtnr.org
SUMMARY:Work Weekend
DESCRIPTION:
URL:https://wtnr.org/event/work-weekend-5/
CATEGORIES:Work Weekend
END:VEVENT
END:VCALENDAR