BEGIN:VCALENDAR
VERSION:2.0
PRODID:-//Walk The Narrow Road - ECPv6.15.20//NONSGML v1.0//EN
CALSCALE:GREGORIAN
METHOD:PUBLISH
X-WR-CALNAME:Walk The Narrow Road
X-ORIGINAL-URL:https://wtnr.org
X-WR-CALDESC:Events for Walk The Narrow Road
REFRESH-INTERVAL;VALUE=DURATION:PT1H
X-Robots-Tag:noindex
X-PUBLISHED-TTL:PT1H
BEGIN:VTIMEZONE
TZID:America/Denver
BEGIN:DAYLIGHT
TZOFFSETFROM:-0700
TZOFFSETTO:-0600
TZNAME:MDT
DTSTART:20230312T090000
END:DAYLIGHT
BEGIN:STANDARD
TZOFFSETFROM:-0600
TZOFFSETTO:-0700
TZNAME:MST
DTSTART:20231105T080000
END:STANDARD
BEGIN:DAYLIGHT
TZOFFSETFROM:-0700
TZOFFSETTO:-0600
TZNAME:MDT
DTSTART:20240310T090000
END:DAYLIGHT
BEGIN:STANDARD
TZOFFSETFROM:-0600
TZOFFSETTO:-0700
TZNAME:MST
DTSTART:20241103T080000
END:STANDARD
BEGIN:DAYLIGHT
TZOFFSETFROM:-0700
TZOFFSETTO:-0600
TZNAME:MDT
DTSTART:20250309T090000
END:DAYLIGHT
BEGIN:STANDARD
TZOFFSETFROM:-0600
TZOFFSETTO:-0700
TZNAME:MST
DTSTART:20251102T080000
END:STANDARD
BEGIN:DAYLIGHT
TZOFFSETFROM:-0700
TZOFFSETTO:-0600
TZNAME:MDT
DTSTART:20260308T090000
END:DAYLIGHT
BEGIN:STANDARD
TZOFFSETFROM:-0600
TZOFFSETTO:-0700
TZNAME:MST
DTSTART:20261101T080000
END:STANDARD
END:VTIMEZONE
BEGIN:VTIMEZONE
TZID:UTC
BEGIN:STANDARD
TZOFFSETFROM:+0000
TZOFFSETTO:+0000
TZNAME:UTC
DTSTART:20210101T000000
END:STANDARD
END:VTIMEZONE
BEGIN:VEVENT
DTSTART;VALUE=DATE:20250221
DTEND;VALUE=DATE:20250224
DTSTAMP:20260423T180457
CREATED:20250117T231434Z
LAST-MODIFIED:20250117T231434Z
UID:7390-1740096000-1740355199@wtnr.org
SUMMARY:work weekend
DESCRIPTION:
URL:https://wtnr.org/event/work-weekend-15/
CATEGORIES:Work Weekend
END:VEVENT
BEGIN:VEVENT
DTSTART;TZID=America/Denver:20241130T140000
DTEND;TZID=America/Denver:20241130T190000
DTSTAMP:20260423T180457
CREATED:20240831T041424Z
LAST-MODIFIED:20240831T041424Z
UID:7338-1732975200-1732993200@wtnr.org
SUMMARY:Community Thanksgiving meal
DESCRIPTION:
URL:https://wtnr.org/event/community-thanksgiving-meal/
CATEGORIES:Neighbor Day
END:VEVENT
BEGIN:VEVENT
DTSTART;VALUE=DATE:20241122
DTEND;VALUE=DATE:20241127
DTSTAMP:20260423T180457
CREATED:20240831T041248Z
LAST-MODIFIED:20240831T041645Z
UID:7336-1732233600-1732665599@wtnr.org
SUMMARY:Group closed
DESCRIPTION:
URL:https://wtnr.org/event/weekend-group-closed/
CATEGORIES:Church Group
END:VEVENT
BEGIN:VEVENT
DTSTART;VALUE=DATE:20241011
DTEND;VALUE=DATE:20241014
DTSTAMP:20260423T180457
CREATED:20240831T040748Z
LAST-MODIFIED:20240831T040748Z
UID:7334-1728604800-1728863999@wtnr.org
SUMMARY:weekend
DESCRIPTION:
URL:https://wtnr.org/event/weekend-2/
CATEGORIES:Work Weekend
END:VEVENT
BEGIN:VEVENT
DTSTART;VALUE=DATE:20240920
DTEND;VALUE=DATE:20240923
DTSTAMP:20260423T180457
CREATED:20240831T040403Z
LAST-MODIFIED:20240831T040541Z
UID:7332-1726790400-1727049599@wtnr.org
SUMMARY:Weekend
DESCRIPTION:
URL:https://wtnr.org/event/weekend/
CATEGORIES:Work Weekend
END:VEVENT
BEGIN:VEVENT
DTSTART;VALUE=DATE:20240816
DTEND;VALUE=DATE:20240819
DTSTAMP:20260423T180457
CREATED:20240804T204121Z
LAST-MODIFIED:20240804T204121Z
UID:7261-1723766400-1724025599@wtnr.org
SUMMARY:Open weekend
DESCRIPTION:Work in town plumbing and electrical \nWork at ranch plumbing and electrical
URL:https://wtnr.org/event/open-weekend/
CATEGORIES:Neighbor Day,Work Weekend
END:VEVENT
BEGIN:VEVENT
DTSTART;VALUE=DATE:20240719
DTEND;VALUE=DATE:20240722
DTSTAMP:20260423T180457
CREATED:20240203T105734Z
LAST-MODIFIED:20240203T105734Z
UID:6711-1721347200-1721606399@wtnr.org
SUMMARY:Ranch Weekend
DESCRIPTION:
URL:https://wtnr.org/event/ranch-weekend-6/
CATEGORIES:Work Weekend
END:VEVENT
BEGIN:VEVENT
DTSTART;VALUE=DATE:20240621
DTEND;VALUE=DATE:20240624
DTSTAMP:20260423T180457
CREATED:20240203T105650Z
LAST-MODIFIED:20240203T105654Z
UID:6709-1718928000-1719187199@wtnr.org
SUMMARY:Ranch Weekend
DESCRIPTION:
URL:https://wtnr.org/event/ranch-weekend-5/
CATEGORIES:Work Weekend
END:VEVENT
BEGIN:VEVENT
DTSTART;VALUE=DATE:20240517
DTEND;VALUE=DATE:20240520
DTSTAMP:20260423T180457
CREATED:20240203T105612Z
LAST-MODIFIED:20240203T105618Z
UID:6707-1715904000-1716163199@wtnr.org
SUMMARY:Ranch Weekend
DESCRIPTION:
URL:https://wtnr.org/event/ranch-weekend-4/
CATEGORIES:Work Weekend
END:VEVENT
BEGIN:VEVENT
DTSTART;VALUE=DATE:20240419
DTEND;VALUE=DATE:20240422
DTSTAMP:20260423T180457
CREATED:20240203T105524Z
LAST-MODIFIED:20240203T105536Z
UID:6705-1713484800-1713743999@wtnr.org
SUMMARY:Ranch weekend
DESCRIPTION:
URL:https://wtnr.org/event/ranch-weekend-3/
CATEGORIES:Work Weekend
END:VEVENT
BEGIN:VEVENT
DTSTART;VALUE=DATE:20240405
DTEND;VALUE=DATE:20240408
DTSTAMP:20260423T180457
CREATED:20240203T105441Z
LAST-MODIFIED:20240203T110011Z
UID:6703-1712275200-1712534399@wtnr.org
SUMMARY:Planning weekend
DESCRIPTION:
URL:https://wtnr.org/event/planning-weekend-2/
CATEGORIES:Planning weekend
END:VEVENT
BEGIN:VEVENT
DTSTART;VALUE=DATE:20240322
DTEND;VALUE=DATE:20240325
DTSTAMP:20260423T180457
CREATED:20240203T105324Z
LAST-MODIFIED:20240203T105331Z
UID:6701-1711065600-1711324799@wtnr.org
SUMMARY:Ranch Weekend
DESCRIPTION:
URL:https://wtnr.org/event/ranch-weekend-2/
CATEGORIES:Work Weekend
END:VEVENT
BEGIN:VEVENT
DTSTART;VALUE=DATE:20240216
DTEND;VALUE=DATE:20240219
DTSTAMP:20260423T180457
CREATED:20240203T105042Z
LAST-MODIFIED:20240203T105101Z
UID:6699-1708041600-1708300799@wtnr.org
SUMMARY:Ranch Weekend
DESCRIPTION:
URL:https://wtnr.org/event/ranch-weekend/
CATEGORIES:Work Weekend
END:VEVENT
BEGIN:VEVENT
DTSTART;VALUE=DATE:20231124
DTEND;VALUE=DATE:20231127
DTSTAMP:20260423T180457
CREATED:20231015T090047Z
LAST-MODIFIED:20231015T090047Z
UID:6692-1700784000-1701043199@wtnr.org
SUMMARY:Ranch Weekend November(Community Thanksgiving meal)
DESCRIPTION:
URL:https://wtnr.org/event/ranch-weekend-novembercommunity-thanksgiving-meal/
CATEGORIES:Neighbor Day,Work Weekend
END:VEVENT
BEGIN:VEVENT
DTSTART;VALUE=DATE:20231027
DTEND;VALUE=DATE:20231030
DTSTAMP:20260423T180457
CREATED:20231015T085736Z
LAST-MODIFIED:20231015T085736Z
UID:6690-1698364800-1698623999@wtnr.org
SUMMARY:Ranch Weekend October
DESCRIPTION:
URL:https://wtnr.org/event/ranch-weekend-october/
CATEGORIES:Work Weekend
END:VEVENT
BEGIN:VEVENT
DTSTART;VALUE=DATE:20230929
DTEND;VALUE=DATE:20231002
DTSTAMP:20260423T180457
CREATED:20231015T085408Z
LAST-MODIFIED:20231015T085408Z
UID:6687-1695945600-1696204799@wtnr.org
SUMMARY:Ranch weekend September
DESCRIPTION:
URL:https://wtnr.org/event/ranch-weekend-september/
CATEGORIES:Work Weekend
END:VEVENT
BEGIN:VEVENT
DTSTART;TZID=UTC:20230825T120000
DTEND;TZID=UTC:20230827T100000
DTSTAMP:20260423T180457
CREATED:20230325T110222Z
LAST-MODIFIED:20230325T110222Z
UID:6668-1692964800-1693130400@wtnr.org
SUMMARY:work weekend August 25-27
DESCRIPTION:
URL:https://wtnr.org/event/work-weekend-august-25-27/
CATEGORIES:Work Weekend
END:VEVENT
BEGIN:VEVENT
DTSTART;TZID=UTC:20230728T080000
DTEND;TZID=UTC:20230730T170000
DTSTAMP:20260423T180457
CREATED:20230221T040938Z
LAST-MODIFIED:20230221T040938Z
UID:6653-1690531200-1690736400@wtnr.org
SUMMARY:Ranch unavailable
DESCRIPTION:
URL:https://wtnr.org/event/ranch-unavailable/
END:VEVENT
BEGIN:VEVENT
DTSTART;TZID=UTC:20230714T120000
DTEND;TZID=UTC:20230716T100000
DTSTAMP:20260423T180457
CREATED:20230325T105553Z
LAST-MODIFIED:20230325T105851Z
UID:6664-1689336000-1689501600@wtnr.org
SUMMARY:work weekend 14-16
DESCRIPTION:
URL:https://wtnr.org/event/july/
CATEGORIES:Work Weekend
END:VEVENT
BEGIN:VEVENT
DTSTART;TZID=UTC:20230616T080000
DTEND;TZID=UTC:20230618T170000
DTSTAMP:20260423T180457
CREATED:20230123T112402Z
LAST-MODIFIED:20230221T040413Z
UID:6644-1686902400-1687107600@wtnr.org
SUMMARY:Work Weekend June 16-18
DESCRIPTION:
URL:https://wtnr.org/event/work-weekend-june-23-25/
CATEGORIES:Work Weekend
END:VEVENT
BEGIN:VEVENT
DTSTART;VALUE=DATE:20230526
DTEND;VALUE=DATE:20230529
DTSTAMP:20260423T180457
CREATED:20230123T112327Z
LAST-MODIFIED:20230123T112327Z
UID:6642-1685059200-1685318399@wtnr.org
SUMMARY:Work Weekend May 26-28
DESCRIPTION:
URL:https://wtnr.org/event/work-weekend-may-26-28/
CATEGORIES:Work Weekend
END:VEVENT
BEGIN:VEVENT
DTSTART;TZID=UTC:20230519T080000
DTEND;TZID=UTC:20230521T170000
DTSTAMP:20260423T180457
CREATED:20230221T041655Z
LAST-MODIFIED:20230221T041655Z
UID:6655-1684483200-1684688400@wtnr.org
SUMMARY:Ranch unavailable
DESCRIPTION:
URL:https://wtnr.org/event/ranch-unavailable-2/
END:VEVENT
BEGIN:VEVENT
DTSTART;VALUE=DATE:20230421
DTEND;VALUE=DATE:20230424
DTSTAMP:20260423T180457
CREATED:20230123T112247Z
LAST-MODIFIED:20230123T112247Z
UID:6640-1682035200-1682294399@wtnr.org
SUMMARY:Work Weekend April 21-23
DESCRIPTION:
URL:https://wtnr.org/event/work-weekend-april-21-23/
CATEGORIES:Work Weekend
END:VEVENT
BEGIN:VEVENT
DTSTART;VALUE=DATE:20230317
DTEND;VALUE=DATE:20230320
DTSTAMP:20260423T180457
CREATED:20230123T112151Z
LAST-MODIFIED:20230123T112151Z
UID:6638-1679011200-1679270399@wtnr.org
SUMMARY:Work Weekend March 17-19
DESCRIPTION:
URL:https://wtnr.org/event/work-weekend-march-17-19/
CATEGORIES:Work Weekend
END:VEVENT
BEGIN:VEVENT
DTSTART;VALUE=DATE:20230217
DTEND;VALUE=DATE:20230220
DTSTAMP:20260423T180457
CREATED:20230123T112024Z
LAST-MODIFIED:20230123T112024Z
UID:6636-1676592000-1676851199@wtnr.org
SUMMARY:Work Weekend Feb 17-19
DESCRIPTION:
URL:https://wtnr.org/event/work-weekend-feb-17-19/
CATEGORIES:Work Weekend
END:VEVENT
BEGIN:VEVENT
DTSTART;VALUE=DATE:20221214
DTEND;VALUE=DATE:20221215
DTSTAMP:20260423T180457
CREATED:20220907T041504Z
LAST-MODIFIED:20220907T041504Z
UID:6318-1670976000-1671062399@wtnr.org
SUMMARY:Christmas Celebration Uniendo Lazos
DESCRIPTION:
URL:https://wtnr.org/event/christmas-celebration-uniendo-lazos/
CATEGORIES:Church Group
END:VEVENT
BEGIN:VEVENT
DTSTART;VALUE=DATE:20221209
DTEND;VALUE=DATE:20221212
DTSTAMP:20260423T180457
CREATED:20220907T041111Z
LAST-MODIFIED:20220907T041111Z
UID:6316-1670544000-1670803199@wtnr.org
SUMMARY:Work Weekend Dec. 9-11
DESCRIPTION:
URL:https://wtnr.org/event/work-weekend-dec-9-11/
CATEGORIES:Work Weekend
END:VEVENT
BEGIN:VEVENT
DTSTART;VALUE=DATE:20221125
DTEND;VALUE=DATE:20221128
DTSTAMP:20260423T180457
CREATED:20220907T040923Z
LAST-MODIFIED:20220907T040923Z
UID:6314-1669334400-1669593599@wtnr.org
SUMMARY:Work Weekend Nov. 25-27
DESCRIPTION:
URL:https://wtnr.org/event/work-weekend-nov-25-27/
CATEGORIES:Work Weekend
END:VEVENT
BEGIN:VEVENT
DTSTART;VALUE=DATE:20221124
DTEND;VALUE=DATE:20221125
DTSTAMP:20260423T180457
CREATED:20220907T041940Z
LAST-MODIFIED:20220907T041940Z
UID:6321-1669248000-1669334399@wtnr.org
SUMMARY:Neighborhood Thanksgiving Meal
DESCRIPTION:
URL:https://wtnr.org/event/neighborhood-thanksgiving-meal/
CATEGORIES:Neighbor Day
END:VEVENT
BEGIN:VEVENT
DTSTART;VALUE=DATE:20221021
DTEND;VALUE=DATE:20221024
DTSTAMP:20260423T180457
CREATED:20220907T040730Z
LAST-MODIFIED:20220907T040730Z
UID:6312-1666310400-1666569599@wtnr.org
SUMMARY:Work Weekend Oct. 21-23
DESCRIPTION:
URL:https://wtnr.org/event/work-weekend-oct-21-23/
CATEGORIES:Work Weekend
END:VEVENT
END:VCALENDAR