BEGIN:VCALENDAR
VERSION:2.0
PRODID:-//Walk The Narrow Road - ECPv6.15.20//NONSGML v1.0//EN
CALSCALE:GREGORIAN
METHOD:PUBLISH
X-ORIGINAL-URL:https://wtnr.org
X-WR-CALDESC:Events for Walk The Narrow Road
REFRESH-INTERVAL;VALUE=DURATION:PT1H
X-Robots-Tag:noindex
X-PUBLISHED-TTL:PT1H
BEGIN:VTIMEZONE
TZID:America/Denver
BEGIN:DAYLIGHT
TZOFFSETFROM:-0700
TZOFFSETTO:-0600
TZNAME:MDT
DTSTART:20250309T090000
END:DAYLIGHT
BEGIN:STANDARD
TZOFFSETFROM:-0600
TZOFFSETTO:-0700
TZNAME:MST
DTSTART:20251102T080000
END:STANDARD
BEGIN:DAYLIGHT
TZOFFSETFROM:-0700
TZOFFSETTO:-0600
TZNAME:MDT
DTSTART:20260308T090000
END:DAYLIGHT
BEGIN:STANDARD
TZOFFSETFROM:-0600
TZOFFSETTO:-0700
TZNAME:MST
DTSTART:20261101T080000
END:STANDARD
BEGIN:DAYLIGHT
TZOFFSETFROM:-0700
TZOFFSETTO:-0600
TZNAME:MDT
DTSTART:20270314T090000
END:DAYLIGHT
BEGIN:STANDARD
TZOFFSETFROM:-0600
TZOFFSETTO:-0700
TZNAME:MST
DTSTART:20271107T080000
END:STANDARD
END:VTIMEZONE
BEGIN:VEVENT
DTSTART;VALUE=DATE:20260417
DTEND;VALUE=DATE:20260420
DTSTAMP:20260423T141756
CREATED:20260209T224202Z
LAST-MODIFIED:20260209T224202Z
UID:7467-1776384000-1776643199@wtnr.org
SUMMARY:work/community weekend
DESCRIPTION:
URL:https://wtnr.org/event/work-community-weekend-2/
CATEGORIES:Work Weekend
END:VEVENT
BEGIN:VEVENT
DTSTART;VALUE=DATE:20260522
DTEND;VALUE=DATE:20260525
DTSTAMP:20260423T141756
CREATED:20260209T224258Z
LAST-MODIFIED:20260413T184655Z
UID:7469-1779408000-1779667199@wtnr.org
SUMMARY:work/community weekend
DESCRIPTION:
URL:https://wtnr.org/event/work-community-weekend-3/
CATEGORIES:Church Group
END:VEVENT
BEGIN:VEVENT
DTSTART;VALUE=DATE:20260619
DTEND;VALUE=DATE:20260622
DTSTAMP:20260423T141756
CREATED:20260209T224340Z
LAST-MODIFIED:20260209T224340Z
UID:7471-1781827200-1782086399@wtnr.org
SUMMARY:work/community weekend
DESCRIPTION:
URL:https://wtnr.org/event/work-community-weekend-4/
CATEGORIES:Work Weekend
END:VEVENT
BEGIN:VEVENT
DTSTART;VALUE=DATE:20260717
DTEND;VALUE=DATE:20260720
DTSTAMP:20260423T141756
CREATED:20260413T184216Z
LAST-MODIFIED:20260413T184216Z
UID:7486-1784246400-1784505599@wtnr.org
SUMMARY:work/community weekend
DESCRIPTION:
URL:https://wtnr.org/event/work-community-weekend-5/
CATEGORIES:Work Weekend
END:VEVENT
BEGIN:VEVENT
DTSTART;VALUE=DATE:20260821
DTEND;VALUE=DATE:20260824
DTSTAMP:20260423T141756
CREATED:20260413T184304Z
LAST-MODIFIED:20260413T184304Z
UID:7488-1787270400-1787529599@wtnr.org
SUMMARY:work/community weekend
DESCRIPTION:
URL:https://wtnr.org/event/work-community-weekend-6/
CATEGORIES:Work Weekend
END:VEVENT
BEGIN:VEVENT
DTSTART;VALUE=DATE:20260918
DTEND;VALUE=DATE:20260921
DTSTAMP:20260423T141756
CREATED:20260413T184343Z
LAST-MODIFIED:20260413T184343Z
UID:7490-1789689600-1789948799@wtnr.org
SUMMARY:work/community weekend
DESCRIPTION:
URL:https://wtnr.org/event/work-community-weekend-7/
CATEGORIES:Work Weekend
END:VEVENT
BEGIN:VEVENT
DTSTART;VALUE=DATE:20261023
DTEND;VALUE=DATE:20261026
DTSTAMP:20260423T141756
CREATED:20260413T184420Z
LAST-MODIFIED:20260413T184420Z
UID:7492-1792713600-1792972799@wtnr.org
SUMMARY:work/community weekend
DESCRIPTION:
URL:https://wtnr.org/event/work-community-weekend-8/
CATEGORIES:Work Weekend
END:VEVENT
BEGIN:VEVENT
DTSTART;VALUE=DATE:20261120
DTEND;VALUE=DATE:20261125
DTSTAMP:20260423T141756
CREATED:20260413T184527Z
LAST-MODIFIED:20260413T184954Z
UID:7494-1795132800-1795564799@wtnr.org
SUMMARY:work/community weekend
DESCRIPTION:Full
URL:https://wtnr.org/event/work-community-weekend-9/
CATEGORIES:Church Group
END:VEVENT
END:VCALENDAR